BEGIN:VCALENDAR
VERSION:2.0
PRODID:-//SDA SWISS DARTS ASSOCIATION//NONSGML kigkonsult.se iCalcreator 2.
 16.12//
METHOD:PUBLISH
X-MS-OLK-FORCEINSPECTOROPEN:TRUE
BEGIN:VEVENT
UID:20260421T211449CEST-9323k2nBzK@SDA SWISS DARTS ASSOCIATION
DTSTAMP:20260421T191449Z
DESCRIPTION:
DTSTART:20260830T140000
DTEND:20260830T170000
LOCATION:DC Schindelihüü
ORGANIZER:MAILTO:SDA SWISS DARTS ASSOCIATION <info@darts.ch>
SUMMARY:Introduzione al software 3K
END:VEVENT
END:VCALENDAR
