BEGIN:VCALENDAR
VERSION:2.0
PRODID:-//SDA SWISS DARTS ASSOCIATION//NONSGML kigkonsult.se iCalcreator 2.
 16.12//
METHOD:PUBLISH
X-MS-OLK-FORCEINSPECTOROPEN:TRUE
BEGIN:VEVENT
UID:20260421T204850CEST-2606t7sALH@SDA SWISS DARTS ASSOCIATION
DTSTAMP:20260421T184850Z
DESCRIPTION:
DTSTART:20260614T140000
DTEND:20260614T170000
LOCATION:Svizzera romanda - Località da specificare
ORGANIZER:MAILTO:SDA SWISS DARTS ASSOCIATION <info@darts.ch>
SUMMARY:Introduzione al software 3K
END:VEVENT
END:VCALENDAR
