BEGIN:VCALENDAR
VERSION:2.0
PRODID:-//SDA SWISS DARTS ASSOCIATION//NONSGML kigkonsult.se iCalcreator 2.
 16.12//
METHOD:PUBLISH
X-MS-OLK-FORCEINSPECTOROPEN:TRUE
BEGIN:VEVENT
UID:20260422T044324CEST-0169uS1tEl@SDA SWISS DARTS ASSOCIATION
DTSTAMP:20260422T024324Z
DESCRIPTION:
DTSTART:20200124T000000
DTEND:20200126T235900
ORGANIZER:MAILTO:SDA SWISS DARTS ASSOCIATION <info@darts.ch>
SUMMARY:Romanian Darts Festival
END:VEVENT
END:VCALENDAR
