BEGIN:VCALENDAR
VERSION:2.0
PRODID:-//SDA SWISS DARTS ASSOCIATION//NONSGML kigkonsult.se iCalcreator 2.
 16.12//
METHOD:PUBLISH
X-MS-OLK-FORCEINSPECTOROPEN:TRUE
BEGIN:VEVENT
UID:20260422T172709CEST-2068XfXL47@SDA SWISS DARTS ASSOCIATION
DTSTAMP:20260422T152709Z
DESCRIPTION:
DTSTART:20260517T110000
DTEND:20260517T170000
LOCATION:à confirmer
ORGANIZER:MAILTO:SDA SWISS DARTS ASSOCIATION <info@darts.ch>
SUMMARY:Entraînement des cadres de l'équipe nationale
END:VEVENT
END:VCALENDAR
