BEGIN:VCALENDAR
VERSION:2.0
PRODID:-//SDA SWISS DARTS ASSOCIATION//NONSGML kigkonsult.se iCalcreator 2.
 16.12//
METHOD:PUBLISH
X-MS-OLK-FORCEINSPECTOROPEN:TRUE
BEGIN:VEVENT
UID:20260421T210110CEST-3612AUPWlL@SDA SWISS DARTS ASSOCIATION
DTSTAMP:20260421T190110Z
DESCRIPTION:
DTSTART:20260614T140000
DTEND:20260614T170000
LOCATION:Suisse romande - Lieu à préciser
ORGANIZER:MAILTO:SDA SWISS DARTS ASSOCIATION <info@darts.ch>
SUMMARY:Introduction du logiciel 3K
END:VEVENT
END:VCALENDAR
