BEGIN:VCALENDAR
VERSION:2.0
PRODID:-//SDA SWISS DARTS ASSOCIATION//NONSGML kigkonsult.se iCalcreator 2.
 16.12//
METHOD:PUBLISH
X-MS-OLK-FORCEINSPECTOROPEN:TRUE
BEGIN:VEVENT
UID:20260419T151730CEST-0358kw2ABn@SDA SWISS DARTS ASSOCIATION
DTSTAMP:20260419T131730Z
DESCRIPTION:\n	\n		\n		\n	\n	\n		\n			Journée\n			10\n			 \n			13.-14.02.21\n		\n		\n			A1\n			Rangers\n			14
 .02.\n			Lauterbrunnen\n		\n		\n			A2\n			Brugg 1\n			14.02.\n			Bern 1\n		\n		\n			A3\n			Midland Knig
 hts\n			14.02.\n			Romont\n		\n		\n			A4\n			Basel\n			13.02.\n			Phantoms\n		\n		\n			BW1\n			Joker 1\n			13
 .02.\n			Top Darts\n		\n		\n			BW2\n			Emmental 1\n			14.02.\n			Geneva DL\n		\n		\n			BW3\n			Safnern 
 1\n			14.02.\n			Morges 1\n		\n		\n			BW4\n			Bern 2\n			--\n			Bye BW\n		\n		\n			BO1\n			Papillon 1\n			13.
 02.\n			Dart-Ranch\n		\n		\n			BO2\n			Bodensee 1\n			13.02.\n			Eastern Switzerland\n		\n		\n			BO3
 \n			Einsiedeln 1\n			14.02.\n			DSV Luzern\n		\n		\n			BO4\n			Gelterkinden 1\n			13.02.\n			Chur
 \n		\n		\n			CW1\n			Bye CW\n			--\n			Sense Steel 2\n		\n		\n			CW2\n			Morges 2\n			14.02.\n			La Chaux-
 de-Fonds\n		\n		\n			CW3\n			Real Caracol\n			13.02.\n			NGH Neuchâtel\n		\n		\n			CW4\n			Kipik Plu
 s\n			13.02.\n			Mama's Sorgenkinder\n		\n		\n			CZ1\n			Papillon 3\n			13.02.\n			Pilatus\n		\n		\n
 			CZ2\n			Steel Heroes\n			13.02.\n			Upwood Steelers\n		\n		\n			CZ3\n			Emmental 3\n			13.02.\n			B
 rugg 2\n		\n		\n			CZ4\n			Ghost Darters\n			13.02.\n			Black Jack\n		\n		\n			CN1\n			Bye CN\n			--\n			S
 afnern 2\n		\n		\n			CN2\n			Ice Age\n			13.02.\n			Gelterkinden 2\n		\n		\n			CN3\n			Sense Steel 1
 \n			13.02.\n			Emmental 2\n		\n		\n			CN4\n			Bern 3\n			13.02.\n			Joker 2\n		\n		\n			CO1\n			Papillon 
 2\n			13.02.\n			Einsiedeln 2\n		\n		\n			CO2\n			High 5\n			--\n			Bye CO\n		\n		\n			CO3\n			Underground
  ZH\n			13.02.\n			Bodensee 2\n		\n		\n			CO4\n			Horgen\n			13.02.\n			Zürich 11\n		\n	\n\n
DTSTART:20210213T000000
DTEND:20210214T235900
ORGANIZER:MAILTO:SDA SWISS DARTS ASSOCIATION <info@darts.ch>
SUMMARY:Annulé: 10ème journée
END:VEVENT
END:VCALENDAR
