BEGIN:VCALENDAR
VERSION:2.0
PRODID:-//SDA SWISS DARTS ASSOCIATION//NONSGML kigkonsult.se iCalcreator 2.
 16.12//
METHOD:PUBLISH
X-MS-OLK-FORCEINSPECTOROPEN:TRUE
BEGIN:VEVENT
UID:20260421T211753CEST-5690VKwVpV@SDA SWISS DARTS ASSOCIATION
DTSTAMP:20260421T191753Z
DESCRIPTION:\n	\n		\n		\n	\n	\n		\n			Tour\n			12\n			 \n			07.-08.03.20\n		\n		\n			A1\n			Rangers\n			08.03
 .\n			Bodensee 1\n		\n		\n			A2\n			Azzurri\n			08.03.\n			Bern 1\n		\n		\n			A3\n			Basel\n			07.03.\n			Pha
 ntoms\n		\n		\n			A4\n			Midland Knights\n			08.03.\n			Romont 1\n		\n		\n			BW1\n			Torpedos Wimmis
 \n			07.03.\n			Morges\n		\n		\n			BW2\n			Joker 1\n			07.03.\n			Bern 2\n		\n		\n			BW3\n			Sense Steel\n
 			07.03.\n			Lauterbrunnen\n		\n		\n			BW4\n			Top Darts\n			08.03.\n			Geneva DL\n		\n		\n			BO1\n			Chu
 r\n			08.03.\n			DSV Luzern\n		\n		\n			BO2\n			Einsiedeln 1\n			08.03.\n			Brugg 1\n		\n		\n			BO3\n			Ge
 lterkinden 1\n			07.03.\n			Papillon 1\n		\n		\n			BO4\n			Zürich 11\n			07.03.\n			Arts of Dart
 s\n		\n		\n			CW1\n			Bern 3\n			07.03.\n			Joker 2\n		\n		\n			CW2\n			Kipik Plus\n			07.03.\n			La Chaux
 -de-Fonds\n		\n		\n			CW3\n			Romont 2\n			07.03.\n			Chillout Dragons1\n		\n		\n			CW4\n			Emmental
  2\n			08.03.\n			Gelterkinden 2\n		\n		\n			CZ1\n			Papillon 2\n			07.03.\n			Ice Piraten\n		\n		\n
 			CZ2\n			Dart-Ranch\n			08.03.\n			Ghost Darters\n		\n		\n			CZ3\n			Steel Heroes\n			07.03.\n			Emm
 ental 1\n		\n		\n			CZ4\n			Chillout Dragons2\n			07.03.\n			Upwood Steelers\n		\n		\n			CO1\n			Bru
 gg 2\n			08.03.\n			Einsiedeln 2\n		\n		\n			CO2\n			Bodensee 2\n			07.03.\n			Underground ZH\n		
 \n		\n			CO3\n			Eastern Switzerland\n			07.03.\n			Papillon 3\n		\n		\n			CO4\n			Black Jack\n			07.
 03.\n			Horgen\n		\n	\n\n
DTSTART:20200307T000000
DTEND:20200308T235900
ORGANIZER:MAILTO:SDA SWISS DARTS ASSOCIATION <info@darts.ch>
SUMMARY:12ème tour
END:VEVENT
END:VCALENDAR
