BEGIN:VCALENDAR
VERSION:2.0
PRODID:-//SDA SWISS DARTS ASSOCIATION//NONSGML kigkonsult.se iCalcreator 2.
 16.12//
METHOD:PUBLISH
X-MS-OLK-FORCEINSPECTOROPEN:TRUE
BEGIN:VEVENT
UID:20260421T193347CEST-7650pxd0bn@SDA SWISS DARTS ASSOCIATION
DTSTAMP:20260421T173347Z
DESCRIPTION:
DTSTART:20260614T140000
DTEND:20260614T170000
LOCATION:Romandy - Location to follow 
ORGANIZER:MAILTO:SDA SWISS DARTS ASSOCIATION <info@darts.ch>
SUMMARY:Introduction to 3K Software
END:VEVENT
END:VCALENDAR
