BEGIN:VCALENDAR
VERSION:2.0
PRODID:-//SDA SWISS DARTS ASSOCIATION//NONSGML kigkonsult.se iCalcreator 2.
 16.12//
METHOD:PUBLISH
X-MS-OLK-FORCEINSPECTOROPEN:TRUE
BEGIN:VEVENT
UID:20260420T074209CEST-3659kLPp3t@SDA SWISS DARTS ASSOCIATION
DTSTAMP:20260420T054209Z
DESCRIPTION:
DTSTART:20191116T080000
DTEND:20191117T170000
LOCATION:MZH Zunzgen
ORGANIZER:MAILTO:SDA SWISS DARTS ASSOCIATION <info@darts.ch>
SUMMARY:39th SDA Swiss Championships
END:VEVENT
END:VCALENDAR
