BEGIN:VCALENDAR
VERSION:2.0
PRODID:-//SDA SWISS DARTS ASSOCIATION//NONSGML kigkonsult.se iCalcreator 2.
 16.12//
METHOD:PUBLISH
X-MS-OLK-FORCEINSPECTOROPEN:TRUE
BEGIN:VEVENT
UID:20260422T155641CEST-4966b7mnEE@SDA SWISS DARTS ASSOCIATION
DTSTAMP:20260422T135641Z
DESCRIPTION:
DTSTART:20260517T110000
DTEND:20260517T170000
LOCATION:DC Schindelihüüü
ORGANIZER:MAILTO:SDA SWISS DARTS ASSOCIATION <info@darts.ch>
SUMMARY:Kader-Training Nationalmannschaft
END:VEVENT
END:VCALENDAR
