BEGIN:VCALENDAR
VERSION:2.0
PRODID:-//SDA SWISS DARTS ASSOCIATION//NONSGML kigkonsult.se iCalcreator 2.
 16.12//
METHOD:PUBLISH
X-MS-OLK-FORCEINSPECTOROPEN:TRUE
BEGIN:VEVENT
UID:20260421T205203CEST-0552LKdudv@SDA SWISS DARTS ASSOCIATION
DTSTAMP:20260421T185203Z
DESCRIPTION:
DTSTART:20260614T140000
DTEND:20260614T170000
LOCATION:Romandie - Ort folgt
ORGANIZER:MAILTO:SDA SWISS DARTS ASSOCIATION <info@darts.ch>
SUMMARY:Einführung 3K-Software
END:VEVENT
END:VCALENDAR
